BEGIN:VCALENDAR
VERSION:2.0
PRODID:-//Corrosion Prevention Association - ECPv6.15.20//NONSGML v1.0//EN
CALSCALE:GREGORIAN
METHOD:PUBLISH
X-WR-CALNAME:Corrosion Prevention Association
X-ORIGINAL-URL:https://www.corrosionprevention.org.uk
X-WR-CALDESC:Events for Corrosion Prevention Association
REFRESH-INTERVAL;VALUE=DURATION:PT1H
X-Robots-Tag:noindex
X-PUBLISHED-TTL:PT1H
BEGIN:VTIMEZONE
TZID:Europe/London
BEGIN:DAYLIGHT
TZOFFSETFROM:+0000
TZOFFSETTO:+0100
TZNAME:BST
DTSTART:20240331T010000
END:DAYLIGHT
BEGIN:STANDARD
TZOFFSETFROM:+0100
TZOFFSETTO:+0000
TZNAME:GMT
DTSTART:20241027T010000
END:STANDARD
BEGIN:DAYLIGHT
TZOFFSETFROM:+0000
TZOFFSETTO:+0100
TZNAME:BST
DTSTART:20250330T010000
END:DAYLIGHT
BEGIN:STANDARD
TZOFFSETFROM:+0100
TZOFFSETTO:+0000
TZNAME:GMT
DTSTART:20251026T010000
END:STANDARD
BEGIN:DAYLIGHT
TZOFFSETFROM:+0000
TZOFFSETTO:+0100
TZNAME:BST
DTSTART:20260329T010000
END:DAYLIGHT
BEGIN:STANDARD
TZOFFSETFROM:+0100
TZOFFSETTO:+0000
TZNAME:GMT
DTSTART:20261025T010000
END:STANDARD
END:VTIMEZONE
BEGIN:VEVENT
DTSTART;VALUE=DATE:20251211
DTEND;VALUE=DATE:20251212
DTSTAMP:20260413T152141
CREATED:20251104T152551Z
LAST-MODIFIED:20251104T152551Z
UID:1770-1765411200-1765497599@www.corrosionprevention.org.uk
SUMMARY:CRA Awards 2025
DESCRIPTION:Join us on Thursday 11 December at the prestigious Radisson Blu Hotel in Glasgow for an unforgettable evening as we celebrate excellence at the CRA Awards 2025. \nThis is your chance to showcase outstanding projects\, honour remarkable individuals\, and applaud the innovation\, expertise\, and dedication that continue to drive our industry forward. \nWhy not make a full day of it? Before the evening celebrations begin\, we’ve organised a special member activity – axe throwing! You voted and we delivered! Spaces are limited\, so be sure to secure your spot early. \nDon’t miss this opportunity to be part of a night that celebrates true excellence – Book your tickets today for both the activity and the awards ceremony using the link below: \nTimings: \n14:45 Axe throwing \n18:00 Drinks reception \n19:00 Dinner \n20:00 Awards ceremony \n21:00 Entertainment \nBook your Place HERE\n \nNominations now closed
URL:https://www.corrosionprevention.org.uk/event/cra-awards-2025/
LOCATION:Radison Blu Glasgow\, Argyle Street\, Glasgow\, G2 8DL
END:VEVENT
BEGIN:VEVENT
DTSTART;VALUE=DATE:20250925
DTEND;VALUE=DATE:20250926
DTSTAMP:20260413T152141
CREATED:20250829T111812Z
LAST-MODIFIED:20250829T111832Z
UID:1759-1758758400-1758844799@www.corrosionprevention.org.uk
SUMMARY:Alliance Industry Day Glasgow
DESCRIPTION:BOOK TODAY\nAlliance Industry Day – Glasgow\n25th September 2025The Royal College of Physicians and Surgeons of Glasgow \nJoin us for the next Alliance Industry Day\, hosted by the Structural Concrete Alliance\, as we head to Glasgow for a day of insight\, collaboration\, and innovation. \nFollowing successful events in London and Manchester\, this September’s Industry Day promises to be another successful event. \nExpert Speakers | Networking Opportunities | Historic Venue \nHosted by Chris Wozencroft (Corrosion Engineering)\, with the following speakers covering: \n-Christian Stone\, Loughborough University on Understanding RAAC concrete\n-Dr David Collings\, ARCADIS delivering insights on useful lifetime data for concrete bridges.\n-Peter Reekie\, Scottish Futures Trust speaking on sustainable infrastructure for a thriving Scotland\n-Sairah Qureshi\, Mott MacDonald\, presenting their technical article on climate change and corrosion.\n-Rob Fairweather  & Bernadette Anderson\, VolkerLaser\, presenting on Sweating the Asset – Protect\, Repair\, and Strengthen \n\n\n\nSchedule\n\n\nTime\nPresentation\n\n\n08:30 – 10:00\nRegistration / Breakfast / Netoworking\n\n\n10:00 – 10:05\nWelcome\n\n\n10:05 – 10:35\nSpeaker 1 – Christian Stone\n\n\n10:35 – 11:05\nSpeaker 2 – David Collins\n\n\n11:05 – 11:35\nSpeaker 3 – Peter Reekie\n\n\n11:35 – 12:00\nCoffee Break\n\n\n12:00 – 12:30\nSpeaker 4 – Sairah Quereshi\n\n\n12:30 – 13:00\nSpeaker 5\n\n\n13:00 – 13:30\nPanel Discussion / Close\n\n\n13:00 – 15:00\nLunch / Networking\n\n\n\n  \nBook HERE to secure your spot!
URL:https://www.corrosionprevention.org.uk/event/alliance-industry-day-glasgow/
LOCATION:Royal College Of Physicians And Surgeons\, 232-242 Saint Vincent Street\, Glasgow\, G2 5RJ\, United Kingdom
ATTACH;FMTTYPE=image/png:https://www.corrosionprevention.org.uk/wp-content/uploads/2025/08/untitled-1200-x-628-px.png
END:VEVENT
END:VCALENDAR